BEGIN:VCALENDAR
VERSION:2.0
PRODID:-//ERUDITE TRAINING SOLUTIONS - ECPv6.15.20//NONSGML v1.0//EN
CALSCALE:GREGORIAN
METHOD:PUBLISH
X-WR-CALNAME:ERUDITE TRAINING SOLUTIONS
X-ORIGINAL-URL:https://eruditets.com
X-WR-CALDESC:Events for ERUDITE TRAINING SOLUTIONS
REFRESH-INTERVAL;VALUE=DURATION:PT1H
X-Robots-Tag:noindex
X-PUBLISHED-TTL:PT1H
BEGIN:VTIMEZONE
TZID:Australia/Melbourne
BEGIN:STANDARD
TZOFFSETFROM:+1100
TZOFFSETTO:+1000
TZNAME:AEST
DTSTART:20250405T160000
END:STANDARD
BEGIN:DAYLIGHT
TZOFFSETFROM:+1000
TZOFFSETTO:+1100
TZNAME:AEDT
DTSTART:20251004T160000
END:DAYLIGHT
BEGIN:STANDARD
TZOFFSETFROM:+1100
TZOFFSETTO:+1000
TZNAME:AEST
DTSTART:20260404T160000
END:STANDARD
BEGIN:DAYLIGHT
TZOFFSETFROM:+1000
TZOFFSETTO:+1100
TZNAME:AEDT
DTSTART:20261003T160000
END:DAYLIGHT
BEGIN:STANDARD
TZOFFSETFROM:+1100
TZOFFSETTO:+1000
TZNAME:AEST
DTSTART:20270403T160000
END:STANDARD
BEGIN:DAYLIGHT
TZOFFSETFROM:+1000
TZOFFSETTO:+1100
TZNAME:AEDT
DTSTART:20271002T160000
END:DAYLIGHT
END:VTIMEZONE
BEGIN:VEVENT
DTSTART;TZID=Australia/Melbourne:20260619T100000
DTEND;TZID=Australia/Melbourne:20260629T130000
DTSTAMP:20260422T204809
CREATED:20260415T053901Z
LAST-MODIFIED:20260415T095717Z
UID:5200-1781863200-1782738000@eruditets.com
SUMMARY:Workshop: Managing Difficult Conversations with Emotional Intelligence 2026
DESCRIPTION:View Event Page  Brochure  Agenda   \n\nDuration: 3-hour interactive workshop.\nDelivery options: In-person\, virtual\, or in-house team format.\nSuitable for: Leadership development programs\, PD sessions\, off-sites\, team capability development\,\nconference breakouts\, and in-house learning programs.\n\nNeed team registration help or invoice support? Contact us\n\n\n\nWhat is included?\n\n\n\n\nPractical emotional intelligence tools\nGuided activities and real-world exercises\nRole-play practice and peer feedback\nWorkshop handouts and takeaways\nPersonal action planning\nImmediately usable language and frameworks\n\nNeed help getting approval? \n\nInvoice support available\nTeam registrations supported\nSubstitutions allowed if plans change\nGovernment organisations receive 20% off\n\n\nTo arrange discounted registrations\, contact us.\n\n\n\nRegistrations for in-person attendance close on 05 June 2026.\n\nSecure your place early to avoid approval delays and lock in your preferred pass before bookings close.
URL:https://eruditets.com/event/workshop-managing-difficult-conversations-2026-registration/
END:VEVENT
END:VCALENDAR